BEGIN:VCALENDAR
VERSION:2.0
PRODID:-//pretix//Fan-Event-Tickets.de//
BEGIN:VTIMEZONE
TZID:Europe/Berlin
BEGIN:STANDARD
DTSTART:20001029T040000
RRULE:FREQ=YEARLY;BYDAY=-1SU;BYMONTH=10
TZNAME:CET
TZOFFSETFROM:+0200
TZOFFSETTO:+0100
END:STANDARD
BEGIN:DAYLIGHT
DTSTART:20000326T030000
RRULE:FREQ=YEARLY;BYDAY=-1SU;BYMONTH=3
TZNAME:CEST
TZOFFSETFROM:+0100
TZOFFSETTO:+0200
END:DAYLIGHT
END:VTIMEZONE
BEGIN:VEVENT
UID:pretix-BBeV-5S26-0@www.fan-event-tickets.de
DTSTART;TZID=Europe/Berlin:20260625T150000
DTEND;TZID=Europe/Berlin:20260628T130000
DESCRIPTION:Tickets: https://www.fan-event-tickets.de/BBeV/5S26/\nVeranstal
 ter: Bronies Bayern e.V.
DTSTAMP:20260424T084140Z
LOCATION:Ferienhof Erlach\, Erlach 3\, 84149 Velden/Vils
SUMMARY:Sunset Shimmer's Summer Sun Siesta 2026
END:VEVENT
END:VCALENDAR
