BEGIN:VCALENDAR
VERSION:2.0
PRODID:-//pretix//Fan-Event-Tickets.de//
BEGIN:VTIMEZONE
TZID:Europe/Amsterdam
BEGIN:STANDARD
DTSTART:20001029T040000
RRULE:FREQ=YEARLY;BYDAY=-1SU;BYMONTH=10
TZNAME:CET
TZOFFSETFROM:+0200
TZOFFSETTO:+0100
END:STANDARD
BEGIN:DAYLIGHT
DTSTART:20000326T030000
RRULE:FREQ=YEARLY;BYDAY=-1SU;BYMONTH=3
TZNAME:CEST
TZOFFSETFROM:+0100
TZOFFSETTO:+0200
END:DAYLIGHT
END:VTIMEZONE
BEGIN:VEVENT
UID:pretix-BBeV-MoMa26-0@www.fan-event-tickets.de
DTSTART;TZID=Europe/Amsterdam:20260619T160000
DTEND;TZID=Europe/Amsterdam:20260621T120000
DESCRIPTION:Tickets: https://www.fan-event-tickets.de/BBeV/MoMa26/\nVeranst
 alter: Bronies Bayern e.V.
DTSTAMP:20260423T201812Z
LOCATION:Haus Süntelbuche\, Süntelstraße 47\, 31848 Bad Münder am Deister
SUMMARY:Izzy's Moonshine Madness 26
END:VEVENT
END:VCALENDAR
