BEGIN:VCALENDAR
VERSION:2.0
PRODID:-//pretix//Fan-Event-Tickets.de//
BEGIN:VTIMEZONE
TZID:Europe/Berlin
BEGIN:STANDARD
DTSTART:20001029T040000
RRULE:FREQ=YEARLY;BYDAY=-1SU;BYMONTH=10
TZNAME:CET
TZOFFSETFROM:+0200
TZOFFSETTO:+0100
END:STANDARD
BEGIN:DAYLIGHT
DTSTART:20000326T030000
RRULE:FREQ=YEARLY;BYDAY=-1SU;BYMONTH=3
TZNAME:CEST
TZOFFSETFROM:+0100
TZOFFSETTO:+0200
END:DAYLIGHT
END:VTIMEZONE
BEGIN:VEVENT
UID:pretix-Jsjaj-NNNNN-0@www.fan-event-tickets.de
DTSTART;TZID=Europe/Berlin:20250501T140000
DTEND;TZID=Europe/Berlin:20250504T120000
DESCRIPTION:Tickets: https://www.fan-event-tickets.de/Jsjaj/NNNNN/\nVeranst
 alter: Café Jsjaj
DTSTAMP:20260421T083947Z
LOCATION:Schullandheim am Scharlbarg\, Scharlbargstieg 17\, 21149 Hamburg\,
  https://maps.app.goo.gl/sJReKMTNCnKqdcCk6
SUMMARY:Nettles Neues Nicht Nachgemachtes Neetup
END:VEVENT
END:VCALENDAR
